BEGIN:VCALENDAR
VERSION:2.0
PRODID:-//Imkerverein Kassel e.V. - ECPv6.8.1//NONSGML v1.0//EN
CALSCALE:GREGORIAN
METHOD:PUBLISH
X-ORIGINAL-URL:https://www.imkerverein-kassel.de
X-WR-CALDESC:Veranstaltungen für Imkerverein Kassel e.V.
REFRESH-INTERVAL;VALUE=DURATION:PT1H
X-Robots-Tag:noindex
X-PUBLISHED-TTL:PT1H
BEGIN:VTIMEZONE
TZID:Europe/Helsinki
BEGIN:DAYLIGHT
TZOFFSETFROM:+0200
TZOFFSETTO:+0300
TZNAME:EEST
DTSTART:20240331T010000
END:DAYLIGHT
BEGIN:STANDARD
TZOFFSETFROM:+0300
TZOFFSETTO:+0200
TZNAME:EET
DTSTART:20241027T010000
END:STANDARD
END:VTIMEZONE
BEGIN:VEVENT
DTSTART;VALUE=DATE:20240518
DTEND;VALUE=DATE:20240519
DTSTAMP:20260422T221554
CREATED:20230426T185205Z
LAST-MODIFIED:20240514T134853Z
UID:7543-1715990400-1716076799@www.imkerverein-kassel.de
SUMMARY:Umlarvaktion
DESCRIPTION:Es besteht die Möglichkeit Zuchtmaterial durch Umlarven bei Manfred Deichmann zu erhalten. Es handelt sich hier um Buckfast-Linien. Um eine Anmeldung vorab über Telefon unter 05609 6996 gebeten.
URL:https://www.imkerverein-kassel.de/event/umlarvaktion/
LOCATION:Wird bei Anmeldung mitgeteilt\, Deutschland
ORGANIZER;CN="Imkerverein Kassel e.V.":MAILTO:vorstand@imkerverein-kassel.de
END:VEVENT
END:VCALENDAR