BEGIN:VCALENDAR
VERSION:2.0
PRODID:-//Imkerverein Kassel e.V. - ECPv6.8.1//NONSGML v1.0//EN
CALSCALE:GREGORIAN
METHOD:PUBLISH
X-WR-CALNAME:Imkerverein Kassel e.V.
X-ORIGINAL-URL:https://www.imkerverein-kassel.de
X-WR-CALDESC:Veranstaltungen für Imkerverein Kassel e.V.
REFRESH-INTERVAL;VALUE=DURATION:PT1H
X-Robots-Tag:noindex
X-PUBLISHED-TTL:PT1H
BEGIN:VTIMEZONE
TZID:UTC
BEGIN:STANDARD
TZOFFSETFROM:+0000
TZOFFSETTO:+0000
TZNAME:UTC
DTSTART:20230101T000000
END:STANDARD
END:VTIMEZONE
BEGIN:VEVENT
DTSTART;TZID=UTC:20230324T183000
DTEND;TZID=UTC:20230324T203000
DTSTAMP:20260425T223017
CREATED:20221230T063303Z
LAST-MODIFIED:20230205T100434Z
UID:7437-1679682600-1679689800@www.imkerverein-kassel.de
SUMMARY:Vortrag zum Thema: Varroaresistenz bei Honigbienen - Abwehrmechanismen in der Praxis nutzen
DESCRIPTION:Liebe Bienenfreundinnen\, liebe Bienenfreunde\, liebe Imker\, liebe Imkerinnen! \n  \nWir laden (schon wieder) ein! Es geht (immer noch) um die Varroamilbe und deren Bekämpfung\, die „unendliche Geschichte“ also… \n  \nWer spricht?               Martin Sebastian Gabel \nDas Thema?               „Varroaresistenz bei Honigbienen – Abwehrmechanismen in der Praxis nutzen“ \nWo?                               Pizzeria Cavallino\, Hauptstrasse 12\, in 34292 Ahnatal-Heckershausen \nWann?                          24. März 2023 \nBeginn:                        18.30 Uhr (Vortragsbeginn). Wer vorher gern noch etwas essen möchte: Das Restaurant öffnet bereits um 17 Uhr! \nMax. Teilnehmerzahl:   40 Personen \n  \nDa das Fassungsvermögen des Raumes auf 40 Personen begrenzt ist\, bitten wir Euch/Sie um Eure/Ihre Anmeldung an vorstand@imkerverein-kassel.de \n  \nWir freuen uns auf Euch/Sie und auf einen spannenden Vortrag!
URL:https://www.imkerverein-kassel.de/event/vortrag-zum-thema-varroaresistenz/
LOCATION:Pizzeria Cavallino\, Hauptstraße 12\, Ahnatal\, Hessen\, 34292\, Deutschland
CATEGORIES:Vortrag
ORGANIZER;CN="Imkerverein Kassel e.V.":MAILTO:vorstand@imkerverein-kassel.de
END:VEVENT
END:VCALENDAR